BEGIN:VCALENDAR
VERSION:2.0
BEGIN:VEVENT
SUMMARY:FATAL ERROR - Aerial Assault
DTSTART:20260517T030000Z
DTEND:20260517T030000Z
DTSTAMP:20260423T025011Z
CREATED:20260423T024627Z
LAST-MODIFIED:20260423T025011Z
UID:BBTA852
DESCRIPTION:Event page: https://bey.au/event/852

Come along to our fortnightly Beyblade X tournament at Centenary Community Hub!\n\nFor this tournament you can only use blades with creatures that can fly! This is a gimmick inspired by The Bladerverse's Animal Kingdom. This marks the release of the new Bullet Griffon blade, as well as our unbanning of Aero Pegasus. For CX blades we are considering the motif associated with the initial release of the main blade/metal blade. Any lock chips, over blades, or assist blades are allowed.\n\n\n\nThe tournament starts at 1:30PM, late arrivals will not be able to compete.\n\nTournament Details\n\nRulebook: WBO Beyblade X Rules\nMatch Type: 3on3 Battle, 7-Point Match.\nTournament Type: Group round robin. Double elimination finals bracket.\nChallonge\n\nOptional rules:\n1 - Registered deck list [Finals]\n4 - Out-of-bounds finish [2 points]\n5 - Painted blades allowed\n6 - Reveal and reorder\n7 - Swap positions after battle (Rotate stadium)\n\nCustom rule: Launching directly into the over or Xtreme zone will be considered a launch error.\n\nThe bit Metal Needle is banned at all our events because it can damage stadiums.\n\nLucky Door Prizes\n\n2 Gear Chip Design Magnets - Donated by Minty Prints\n\nOther Info\n\nWe'll be upstairs in the Oldfield room. As this is upstairs it's not wheelchair accessible unfortunately.\n\nThe tournament is likely to last at least a few hours. If you can't commit to the entire tournament, you're welcome to come watch and play for fun instead!\n\nI will be lending out some beyblades for those without, or those with a very limited selection. But you are encouraged to buy your own - buyer's guide here.\n\nIf your young children are attending, I cannot be responsible for their safety, please ensure that they are accompanied by a guardian if they cannot take care of themselves.\n\nIf you're new to Beyblade X, and want to learn more, this video provides a quick rundown on how the game works.\n\n
LOCATION:Centenary Community Hub - Mount Ommaney
URL:https://bey.au/event/852
ORGANIZER:BEY TEAM OUROBOROS
STATUS:CONFIRMED
PRIORITY:0
END:VEVENT
END:VCALENDAR